BEGIN:VCALENDAR
VERSION:2.0
PRODID:icalendar-ruby
CALSCALE:GREGORIAN
METHOD:PUBLISH
BEGIN:VEVENT
DTSTAMP:20260421T121135Z
UID:114-477295@ecngchurch.com
DTSTART:20260425T020000Z
DTEND:20260425T040000Z
CLASS:PUBLIC
CREATED:20260330T104711
DESCRIPTION:
LAST-MODIFIED:20260330T104711
LOCATION:607 Desert Gardens Dr. El Centro CA 92243
SUMMARY:Pelea
URL;VALUE=URI:https://www.ecngchurch.com/events/pelea--114/2026-04-24
ATTACH;FILENAME=Spanish-Slideshow-6.jpg;FMTTYPE=image/jpeg:https://dq5pwpg1
 q8ru0.cloudfront.net/2026/03/30/17/47/10/e892a16e-1f1f-4046-a8fa-9547b0532
 84a/Spanish-Slideshow-6.jpg
END:VEVENT
END:VCALENDAR
